BEGIN:VCALENDAR
VERSION:2.0
PRODID:-//Central Wheatbelt Visitor Centre - ECPv6.15.20//NONSGML v1.0//EN
CALSCALE:GREGORIAN
METHOD:PUBLISH
X-ORIGINAL-URL:https://www.wheatbelttourism.com
X-WR-CALDESC:Events for Central Wheatbelt Visitor Centre
REFRESH-INTERVAL;VALUE=DURATION:PT1H
X-Robots-Tag:noindex
X-PUBLISHED-TTL:PT1H
BEGIN:VTIMEZONE
TZID:Australia/Perth
BEGIN:STANDARD
TZOFFSETFROM:+0800
TZOFFSETTO:+0800
TZNAME:AWST
DTSTART:20250101T000000
END:STANDARD
END:VTIMEZONE
BEGIN:VEVENT
DTSTART;TZID=Australia/Perth:20260416T103000
DTEND;TZID=Australia/Perth:20260416T133000
DTSTAMP:20260421T190053
CREATED:20260414T010617Z
LAST-MODIFIED:20260414T010617Z
UID:12897-1776335400-1776346200@www.wheatbelttourism.com
SUMMARY:Narembeen Movie Day
DESCRIPTION:
URL:https://www.wheatbelttourism.com/event/narembeen-movie-day-2/
CATEGORIES:Family Events
END:VEVENT
BEGIN:VEVENT
DTSTART;TZID=Australia/Perth:20260417T030000
DTEND;TZID=Australia/Perth:20260418T233000
DTSTAMP:20260421T190053
CREATED:20260202T041319Z
LAST-MODIFIED:20260413T010456Z
UID:11792-1776394800-1776555000@www.wheatbelttourism.com
SUMMARY:Kellerberrin Wheatbelt Motor Mayhem
DESCRIPTION:
URL:https://www.wheatbelttourism.com/event/kellerberrin-wheatbelt-motor-mayhem/
CATEGORIES:Annual Shows & Festivals
END:VEVENT
BEGIN:VEVENT
DTSTART;TZID=Australia/Perth:20260417T100000
DTEND;TZID=Australia/Perth:20260417T140000
DTSTAMP:20260421T190053
CREATED:20260318T053740Z
LAST-MODIFIED:20260318T053740Z
UID:12498-1776420000-1776434400@www.wheatbelttourism.com
SUMMARY:Merredin Skateboarding Workshop
DESCRIPTION:
URL:https://www.wheatbelttourism.com/event/merredin-skateboarding-workshop/
CATEGORIES:Childrens Event,Sports
END:VEVENT
BEGIN:VEVENT
DTSTART;TZID=Australia/Perth:20260417T100000
DTEND;TZID=Australia/Perth:20260417T180000
DTSTAMP:20260421T190053
CREATED:20260331T053303Z
LAST-MODIFIED:20260331T053303Z
UID:12690-1776420000-1776448800@www.wheatbelttourism.com
SUMMARY:Corrigin Art Exhibition and Markets
DESCRIPTION:
URL:https://www.wheatbelttourism.com/event/corrigin-art-exhibition-and-markets/
CATEGORIES:Annual Shows & Festivals
END:VEVENT
BEGIN:VEVENT
DTSTART;TZID=Australia/Perth:20260418T083000
DTEND;TZID=Australia/Perth:20260418T120000
DTSTAMP:20260421T190053
CREATED:20260331T053604Z
LAST-MODIFIED:20260331T053604Z
UID:12699-1776501000-1776513600@www.wheatbelttourism.com
SUMMARY:Corrigin Art Exhibition and Markets
DESCRIPTION:
URL:https://www.wheatbelttourism.com/event/corrigin-art-exhibition-and-markets-2/
CATEGORIES:Annual Shows & Festivals
END:VEVENT
BEGIN:VEVENT
DTSTART;TZID=Australia/Perth:20260418T130000
DTEND;TZID=Australia/Perth:20260418T193000
DTSTAMP:20260421T190053
CREATED:20260416T003621Z
LAST-MODIFIED:20260416T003621Z
UID:12981-1776517200-1776540600@www.wheatbelttourism.com
SUMMARY:Merredin Exhibition Celebration
DESCRIPTION:
URL:https://www.wheatbelttourism.com/event/merredin-exhibition-celebration/
CATEGORIES:Community Event
END:VEVENT
BEGIN:VEVENT
DTSTART;TZID=Australia/Perth:20260418T180000
DTEND;TZID=Australia/Perth:20260418T200000
DTSTAMP:20260421T190053
CREATED:20260226T070456Z
LAST-MODIFIED:20260226T070456Z
UID:12242-1776535200-1776542400@www.wheatbelttourism.com
SUMMARY:Southern Cross ANZAC Day Brush & Bubbles
DESCRIPTION:
URL:https://www.wheatbelttourism.com/event/southern-cross-anzac-day-brush-bubbles/
CATEGORIES:Community Event
END:VEVENT
BEGIN:VEVENT
DTSTART;TZID=Australia/Perth:20260419T120000
DTEND;TZID=Australia/Perth:20260419T170000
DTSTAMP:20260421T190053
CREATED:20260331T053735Z
LAST-MODIFIED:20260331T053735Z
UID:12705-1776600000-1776618000@www.wheatbelttourism.com
SUMMARY:Kellerberrin Trots
DESCRIPTION:
URL:https://www.wheatbelttourism.com/event/kellerberrin-trots-11/
CATEGORIES:Community Event
END:VEVENT
BEGIN:VEVENT
DTSTART;TZID=Australia/Perth:20260425T050000
DTEND;TZID=Australia/Perth:20260425T090000
DTSTAMP:20260421T190053
CREATED:20260413T035143Z
LAST-MODIFIED:20260413T035304Z
UID:12870-1777093200-1777107600@www.wheatbelttourism.com
SUMMARY:Kondinin ANZAC Day
DESCRIPTION:
URL:https://www.wheatbelttourism.com/event/kondinin-anzac-day-2/
CATEGORIES:Community Event
END:VEVENT
BEGIN:VEVENT
DTSTART;TZID=Australia/Perth:20260425T051500
DTEND;TZID=Australia/Perth:20260425T100000
DTSTAMP:20260421T190053
CREATED:20260413T025355Z
LAST-MODIFIED:20260413T025355Z
UID:12849-1777094100-1777111200@www.wheatbelttourism.com
SUMMARY:Lake Grace\, Lake King\, Newdegate & Varley ANZAC Day
DESCRIPTION:
URL:https://www.wheatbelttourism.com/event/lake-grace-lake-king-newdegate-varley-anzac-day/
CATEGORIES:Community Event
END:VEVENT
BEGIN:VEVENT
DTSTART;TZID=Australia/Perth:20260425T054500
DTEND;TZID=Australia/Perth:20260425T070000
DTSTAMP:20260421T190053
CREATED:20260420T063301Z
LAST-MODIFIED:20260420T063408Z
UID:13116-1777095900-1777100400@www.wheatbelttourism.com
SUMMARY:Corrigin ANZAC Day
DESCRIPTION:
URL:https://www.wheatbelttourism.com/event/corrigin-anzac-day/
CATEGORIES:Community Event
END:VEVENT
BEGIN:VEVENT
DTSTART;TZID=Australia/Perth:20260425T054500
DTEND;TZID=Australia/Perth:20260425T120000
DTSTAMP:20260421T190053
CREATED:20260420T062910Z
LAST-MODIFIED:20260420T062910Z
UID:13107-1777095900-1777118400@www.wheatbelttourism.com
SUMMARY:Wyalkatchem ANZAC Day
DESCRIPTION:
URL:https://www.wheatbelttourism.com/event/wyalkatchem-anzac-day/
CATEGORIES:Community Event
END:VEVENT
BEGIN:VEVENT
DTSTART;TZID=Australia/Perth:20260425T054500
DTEND;TZID=Australia/Perth:20260425T130000
DTSTAMP:20260421T190053
CREATED:20260331T052408Z
LAST-MODIFIED:20260331T052423Z
UID:12672-1777095900-1777122000@www.wheatbelttourism.com
SUMMARY:Merredin Anzac Day Services
DESCRIPTION:
URL:https://www.wheatbelttourism.com/event/merredin-anzac-day-services-2/
CATEGORIES:Annual Shows & Festivals
END:VEVENT
BEGIN:VEVENT
DTSTART;TZID=Australia/Perth:20260425T054500
DTEND;TZID=Australia/Perth:20260425T190000
DTSTAMP:20260421T190053
CREATED:20260417T052125Z
LAST-MODIFIED:20260417T052125Z
UID:13059-1777095900-1777143600@www.wheatbelttourism.com
SUMMARY:Westonia ANZAC Day
DESCRIPTION:
URL:https://www.wheatbelttourism.com/event/westonia-anzac-day/
CATEGORIES:Annual Shows & Festivals
END:VEVENT
BEGIN:VEVENT
DTSTART;TZID=Australia/Perth:20260425T060000
DTEND;TZID=Australia/Perth:20260425T080000
DTSTAMP:20260421T190053
CREATED:20260413T025007Z
LAST-MODIFIED:20260413T025007Z
UID:12837-1777096800-1777104000@www.wheatbelttourism.com
SUMMARY:Mukinbudin ANZAC Day
DESCRIPTION:
URL:https://www.wheatbelttourism.com/event/mukinbudin-anzac-day/
CATEGORIES:Community Event
END:VEVENT
BEGIN:VEVENT
DTSTART;TZID=Australia/Perth:20260425T060000
DTEND;TZID=Australia/Perth:20260425T080000
DTSTAMP:20260421T190053
CREATED:20260413T033016Z
LAST-MODIFIED:20260413T033016Z
UID:12858-1777096800-1777104000@www.wheatbelttourism.com
SUMMARY:Hyden ANZAC Day
DESCRIPTION:
URL:https://www.wheatbelttourism.com/event/hyden-anzac-day-2/
CATEGORIES:Community Event
END:VEVENT
BEGIN:VEVENT
DTSTART;TZID=Australia/Perth:20260425T060000
DTEND;TZID=Australia/Perth:20260425T120000
DTSTAMP:20260421T190053
CREATED:20260413T024232Z
LAST-MODIFIED:20260413T024232Z
UID:12801-1777096800-1777118400@www.wheatbelttourism.com
SUMMARY:Southern Cross ANZAC Day
DESCRIPTION:
URL:https://www.wheatbelttourism.com/event/southern-cross-anzac-day/
CATEGORIES:Community Event
END:VEVENT
BEGIN:VEVENT
DTSTART;TZID=Australia/Perth:20260425T060000
DTEND;TZID=Australia/Perth:20260425T120000
DTSTAMP:20260421T190053
CREATED:20260421T023504Z
LAST-MODIFIED:20260421T023504Z
UID:13125-1777096800-1777118400@www.wheatbelttourism.com
SUMMARY:Beverley ANZAC Day
DESCRIPTION:
URL:https://www.wheatbelttourism.com/event/beverley-anzac-day/
CATEGORIES:Community Event
END:VEVENT
BEGIN:VEVENT
DTSTART;TZID=Australia/Perth:20260425T060000
DTEND;TZID=Australia/Perth:20260425T140000
DTSTAMP:20260421T190053
CREATED:20260416T031220Z
LAST-MODIFIED:20260416T031220Z
UID:13005-1777096800-1777125600@www.wheatbelttourism.com
SUMMARY:Cunderdin & Meckering ANZAC Day
DESCRIPTION:
URL:https://www.wheatbelttourism.com/event/cunderdin-meckering-anzac-day/
CATEGORIES:Community Event
END:VEVENT
BEGIN:VEVENT
DTSTART;TZID=Australia/Perth:20260425T063000
DTEND;TZID=Australia/Perth:20260425T083000
DTSTAMP:20260421T190053
CREATED:20260413T024717Z
LAST-MODIFIED:20260413T024717Z
UID:12828-1777098600-1777105800@www.wheatbelttourism.com
SUMMARY:Dowerin ANZAC Day
DESCRIPTION:
URL:https://www.wheatbelttourism.com/event/dowerin-anzac-day-2/
CATEGORIES:Community Event
END:VEVENT
BEGIN:VEVENT
DTSTART;TZID=Australia/Perth:20260425T083000
DTEND;TZID=Australia/Perth:20260425T100000
DTSTAMP:20260421T190053
CREATED:20260415T014601Z
LAST-MODIFIED:20260415T014601Z
UID:12924-1777105800-1777111200@www.wheatbelttourism.com
SUMMARY:Beacon ANZAC Day
DESCRIPTION:
URL:https://www.wheatbelttourism.com/event/beacon-anzac-day/
CATEGORIES:Community Event
END:VEVENT
BEGIN:VEVENT
DTSTART;TZID=Australia/Perth:20260425T090000
DTEND;TZID=Australia/Perth:20260425T100000
DTSTAMP:20260421T190053
CREATED:20260420T062324Z
LAST-MODIFIED:20260420T062324Z
UID:13098-1777107600-1777111200@www.wheatbelttourism.com
SUMMARY:Kulin ANZAC Day
DESCRIPTION:
URL:https://www.wheatbelttourism.com/event/kulin-anzac-day/
CATEGORIES:Community Event
END:VEVENT
BEGIN:VEVENT
DTSTART;TZID=Australia/Perth:20260425T090000
DTEND;TZID=Australia/Perth:20260425T110000
DTSTAMP:20260421T190053
CREATED:20260415T014722Z
LAST-MODIFIED:20260415T014722Z
UID:12933-1777107600-1777114800@www.wheatbelttourism.com
SUMMARY:Bencubbin ANZAC Day
DESCRIPTION:
URL:https://www.wheatbelttourism.com/event/bencubbin-anzac-day/
CATEGORIES:Community Event
END:VEVENT
BEGIN:VEVENT
DTSTART;TZID=Australia/Perth:20260425T090000
DTEND;TZID=Australia/Perth:20260425T110000
DTSTAMP:20260421T190053
CREATED:20260417T062927Z
LAST-MODIFIED:20260417T062927Z
UID:13083-1777107600-1777114800@www.wheatbelttourism.com
SUMMARY:Koorda ANZAC Day
DESCRIPTION:
URL:https://www.wheatbelttourism.com/event/koorda-anzac-day-2/
END:VEVENT
BEGIN:VEVENT
DTSTART;TZID=Australia/Perth:20260425T093000
DTEND;TZID=Australia/Perth:20260425T103000
DTSTAMP:20260421T190053
CREATED:20260413T024414Z
LAST-MODIFIED:20260413T024414Z
UID:12810-1777109400-1777113000@www.wheatbelttourism.com
SUMMARY:Kellerberrin ANZAC Day
DESCRIPTION:
URL:https://www.wheatbelttourism.com/event/kellerberrin-anzac-day/
CATEGORIES:Community Event
END:VEVENT
BEGIN:VEVENT
DTSTART;TZID=Australia/Perth:20260425T100000
DTEND;TZID=Australia/Perth:20260425T120000
DTSTAMP:20260421T190053
CREATED:20260415T014359Z
LAST-MODIFIED:20260415T014359Z
UID:12912-1777111200-1777118400@www.wheatbelttourism.com
SUMMARY:Nungarin ANZAC Day
DESCRIPTION:Nungarin ANZAC Day service to be held at the Nungarin Heritage Machinery & Army Museum.
URL:https://www.wheatbelttourism.com/event/nungarin-anzac-day/
CATEGORIES:Community Event
END:VEVENT
BEGIN:VEVENT
DTSTART;TZID=Australia/Perth:20260425T100000
DTEND;TZID=Australia/Perth:20260425T130000
DTSTAMP:20260421T190053
CREATED:20260413T024552Z
LAST-MODIFIED:20260413T024552Z
UID:12819-1777111200-1777122000@www.wheatbelttourism.com
SUMMARY:Bruce Rock ANZAC Day
DESCRIPTION:
URL:https://www.wheatbelttourism.com/event/bruce-rock-anzac-day/
CATEGORIES:Community Event
END:VEVENT
BEGIN:VEVENT
DTSTART;TZID=Australia/Perth:20260425T103000
DTEND;TZID=Australia/Perth:20260425T113000
DTSTAMP:20260421T190053
CREATED:20260415T015520Z
LAST-MODIFIED:20260415T015520Z
UID:12942-1777113000-1777116600@www.wheatbelttourism.com
SUMMARY:Tammin ANZAC Day
DESCRIPTION:
URL:https://www.wheatbelttourism.com/event/tammin-anzac-day/
CATEGORIES:Community Event
END:VEVENT
BEGIN:VEVENT
DTSTART;TZID=Australia/Perth:20260425T103000
DTEND;TZID=Australia/Perth:20260425T123000
DTSTAMP:20260421T190053
CREATED:20260312T023010Z
LAST-MODIFIED:20260319T052723Z
UID:12366-1777113000-1777120200@www.wheatbelttourism.com
SUMMARY:Narembeen ANZAC Day
DESCRIPTION:
URL:https://www.wheatbelttourism.com/event/narambeen-anzac-day/
CATEGORIES:Community Event
END:VEVENT
BEGIN:VEVENT
DTSTART;TZID=Australia/Perth:20260425T110000
DTEND;TZID=Australia/Perth:20260425T120000
DTSTAMP:20260421T190053
CREATED:20260413T023844Z
LAST-MODIFIED:20260413T023844Z
UID:12792-1777114800-1777118400@www.wheatbelttourism.com
SUMMARY:Kununoppin ANZAC Day
DESCRIPTION:
URL:https://www.wheatbelttourism.com/event/kununoppin-anzac-day/
CATEGORIES:Community Event
END:VEVENT
END:VCALENDAR