BEGIN:VCALENDAR
VERSION:2.0
PRODID:-//Central Wheatbelt Visitor Centre - ECPv6.15.20//NONSGML v1.0//EN
CALSCALE:GREGORIAN
METHOD:PUBLISH
X-WR-CALNAME:Central Wheatbelt Visitor Centre
X-ORIGINAL-URL:https://www.wheatbelttourism.com
X-WR-CALDESC:Events for Central Wheatbelt Visitor Centre
REFRESH-INTERVAL;VALUE=DURATION:PT1H
X-Robots-Tag:noindex
X-PUBLISHED-TTL:PT1H
BEGIN:VTIMEZONE
TZID:Australia/Perth
BEGIN:STANDARD
TZOFFSETFROM:+0800
TZOFFSETTO:+0800
TZNAME:AWST
DTSTART:20230101T000000
END:STANDARD
END:VTIMEZONE
BEGIN:VTIMEZONE
TZID:UTC
BEGIN:STANDARD
TZOFFSETFROM:+0000
TZOFFSETTO:+0000
TZNAME:UTC
DTSTART:20230101T000000
END:STANDARD
END:VTIMEZONE
BEGIN:VEVENT
DTSTART;TZID=Australia/Perth:20241201T080000
DTEND;TZID=Australia/Perth:20241201T120000
DTSTAMP:20260421T155435
CREATED:20241122T043246Z
LAST-MODIFIED:20241122T043246Z
UID:4264-1733040000-1733054400@www.wheatbelttourism.com
SUMMARY:Nungarin Markets
DESCRIPTION:The main Street of Nungarin comes alive on a Sunday morning. Main Street businesses open with plenty of entertainment\, eats\, drinks and bargins to be purchased. \nStalls include: fresh produce\, cakes\, honey\, clothes\, books\, chooks\, plants\, stationary\, hand crafted items\, collectables\, bric-a-brac and much more! \nTrading Hours 8:00am to 12:00pm \nTo book a stall contact (08) 9046 5174
URL:https://www.wheatbelttourism.com/event/nungarin-markets-12/
LOCATION:Nungarin Markets\, Railway Avenue\, Nungarin\, WA\, 6490\, Australia
CATEGORIES:Market Days
END:VEVENT
BEGIN:VEVENT
DTSTART;TZID=UTC:20241206T170000
DTEND;TZID=UTC:20241206T210000
DTSTAMP:20260421T155435
CREATED:20241001T225602Z
LAST-MODIFIED:20241119T065844Z
UID:2983-1733504400-1733518800@www.wheatbelttourism.com
SUMMARY:Southern Cross Christmas Late Night Shopping
DESCRIPTION:Friday 6th December\nSanta Visit at 6.30pm\nStall holders contact the CRC 9049 1688 or CRC@YILGARN.WA.GOV.AU by 12.30pm Thursday 5th December \n 
URL:https://www.wheatbelttourism.com/event/southern-cross-christmas-late-night-shopping/
CATEGORIES:Market Days
END:VEVENT
BEGIN:VEVENT
DTSTART;TZID=Australia/Perth:20241207T080000
DTEND;TZID=Australia/Perth:20241207T130000
DTSTAMP:20260421T155435
CREATED:20241115T034357Z
LAST-MODIFIED:20241115T080745Z
UID:4079-1733558400-1733576400@www.wheatbelttourism.com
SUMMARY:Beverley Markets
DESCRIPTION:
URL:https://www.wheatbelttourism.com/event/beverley-markets/
CATEGORIES:Market Days
END:VEVENT
BEGIN:VEVENT
DTSTART;TZID=UTC:20241212T173000
DTEND;TZID=UTC:20241212T203000
DTSTAMP:20260421T155435
CREATED:20240927T190650Z
LAST-MODIFIED:20241031T185401Z
UID:2978-1734024600-1734035400@www.wheatbelttourism.com
SUMMARY:Kondinin Christmas Twilight Markets
DESCRIPTION: 
URL:https://www.wheatbelttourism.com/event/kondinin-christmas-twilight-markets/
CATEGORIES:Market Days
END:VEVENT
END:VCALENDAR