BEGIN:VCALENDAR
VERSION:2.0
PRODID:-//Central Wheatbelt Visitor Centre - ECPv6.15.20//NONSGML v1.0//EN
CALSCALE:GREGORIAN
METHOD:PUBLISH
X-WR-CALNAME:Central Wheatbelt Visitor Centre
X-ORIGINAL-URL:https://www.wheatbelttourism.com
X-WR-CALDESC:Events for Central Wheatbelt Visitor Centre
REFRESH-INTERVAL;VALUE=DURATION:PT1H
X-Robots-Tag:noindex
X-PUBLISHED-TTL:PT1H
BEGIN:VTIMEZONE
TZID:Australia/Perth
BEGIN:STANDARD
TZOFFSETFROM:+0800
TZOFFSETTO:+0800
TZNAME:AWST
DTSTART:20240101T000000
END:STANDARD
END:VTIMEZONE
BEGIN:VEVENT
DTSTART;TZID=Australia/Perth:20250918T080000
DTEND;TZID=Australia/Perth:20250918T170000
DTSTAMP:20260422T012740
CREATED:20250825T042328Z
LAST-MODIFIED:20250825T042328Z
UID:9083-1758182400-1758214800@www.wheatbelttourism.com
SUMMARY:Narembeen WesCARpade 2025
DESCRIPTION:Camp Quality WesCARpade will be visiting Narembeen Thursday 18 September 2025 \nCome watch these wacky cars and help raise money for Camp Quality.
URL:https://www.wheatbelttourism.com/event/narembeen-wescarpade-2025/
CATEGORIES:Community Event
END:VEVENT
END:VCALENDAR