BEGIN:VCALENDAR
VERSION:2.0
PRODID:-//Central Wheatbelt Visitor Centre - ECPv6.15.20//NONSGML v1.0//EN
CALSCALE:GREGORIAN
METHOD:PUBLISH
X-ORIGINAL-URL:https://www.wheatbelttourism.com
X-WR-CALDESC:Events for Central Wheatbelt Visitor Centre
REFRESH-INTERVAL;VALUE=DURATION:PT1H
X-Robots-Tag:noindex
X-PUBLISHED-TTL:PT1H
BEGIN:VTIMEZONE
TZID:Australia/Perth
BEGIN:STANDARD
TZOFFSETFROM:+0800
TZOFFSETTO:+0800
TZNAME:AWST
DTSTART:20240101T000000
END:STANDARD
END:VTIMEZONE
BEGIN:VEVENT
DTSTART;TZID=Australia/Perth:20250912T180000
DTEND;TZID=Australia/Perth:20250912T200000
DTSTAMP:20260422T013523
CREATED:20250821T025243Z
LAST-MODIFIED:20250821T025243Z
UID:9014-1757700000-1757707200@www.wheatbelttourism.com
SUMMARY:Mukinbudin Movie night
DESCRIPTION:
URL:https://www.wheatbelttourism.com/event/mukinbudin-movie-night/
CATEGORIES:Childrens Event,Family Events
END:VEVENT
END:VCALENDAR