BEGIN:VCALENDAR
VERSION:2.0
PRODID:-//Central Wheatbelt Visitor Centre - ECPv6.15.20//NONSGML v1.0//EN
CALSCALE:GREGORIAN
METHOD:PUBLISH
X-ORIGINAL-URL:https://www.wheatbelttourism.com
X-WR-CALDESC:Events for Central Wheatbelt Visitor Centre
REFRESH-INTERVAL;VALUE=DURATION:PT1H
X-Robots-Tag:noindex
X-PUBLISHED-TTL:PT1H
BEGIN:VTIMEZONE
TZID:Australia/Perth
BEGIN:STANDARD
TZOFFSETFROM:+0800
TZOFFSETTO:+0800
TZNAME:AWST
DTSTART:20240101T000000
END:STANDARD
END:VTIMEZONE
BEGIN:VEVENT
DTSTART;TZID=Australia/Perth:20250905T080000
DTEND;TZID=Australia/Perth:20250907T170000
DTSTAMP:20260422T012914
CREATED:20250804T013747Z
LAST-MODIFIED:20250804T052935Z
UID:8723-1757059200-1757264400@www.wheatbelttourism.com
SUMMARY:Tammin Matriarchs of the Wheatbelt
DESCRIPTION:Join us for a very special community festival weekend event in the Shire of Tammin. \nWe will be celebrating 50 years of continuous trapdoor spider research started by the groundbreaking work of the late Professor Barbara York Main OAM.  Her lifelong dedication unearthed invaluable scientific knowledge and produced award-winning writings on place\, shining a light on these incredible beings and her own home in the wheatbelt. \nThere’s plenty to keep you busy over the weekend\, including exclusive documentary screenings\, theatre\, poetry\, citizen science\, workshops\, special guest speakers\, competitions\, and interactive family activities.  Don’t miss out – it’s worth leaving your burrow for this! \nThis event is dog-friendly\, so bring along the whole family.  All profits go directly to the Bookend Trust charity to fund future trapdoor spider research. \nCamping is available at the Donnan Park sports ground.  No powered sites available but access to camp kitchen\, BBQ and hot showers.  Booking available via the QR code or www.leanda.life \nThis event will be held on unceded Ballardong Noongar Boodja.  We acknowledge Elders of everywhere and pledge to be respectful while walking with Country in this place. \nTickets are $5 for the weekend\, or free for children under 12. Purchase tickets here at www.leanda.life
URL:https://www.wheatbelttourism.com/event/tammin-matriarchs-of-the-wheatbelt/
CATEGORIES:Community Event,Workshops
END:VEVENT
BEGIN:VEVENT
DTSTART;TZID=Australia/Perth:20250906T080000
DTEND;TZID=Australia/Perth:20250906T130000
DTSTAMP:20260422T012914
CREATED:20250813T071849Z
LAST-MODIFIED:20250813T071849Z
UID:8891-1757145600-1757163600@www.wheatbelttourism.com
SUMMARY:Beverley Markets
DESCRIPTION:
URL:https://www.wheatbelttourism.com/event/beverley-markets-2/
CATEGORIES:Market Days
END:VEVENT
BEGIN:VEVENT
DTSTART;TZID=Australia/Perth:20250906T163000
DTEND;TZID=Australia/Perth:20250906T200000
DTSTAMP:20260422T012914
CREATED:20250814T054754Z
LAST-MODIFIED:20250814T054754Z
UID:8936-1757176200-1757188800@www.wheatbelttourism.com
SUMMARY:Nungarin Campfire Dinner
DESCRIPTION:Join us for our final campfire dinner of the season on Saturday\, 6th September 2025.Enjoy a hearty meal cooked over the open fire\, followed by a delicious dessert under the stars.As the flames die down\, gather around to hear the moving reading of a letter sent from the front line by a local soldier to his mate back home in Western Australia—a heartfelt glimpse into our shared history.\n \nBook online
URL:https://www.wheatbelttourism.com/event/nungarin-campfire-dinner-2/
CATEGORIES:Community Event
END:VEVENT
END:VCALENDAR