BEGIN:VCALENDAR
VERSION:2.0
PRODID:-//Central Wheatbelt Visitor Centre - ECPv6.15.20//NONSGML v1.0//EN
CALSCALE:GREGORIAN
METHOD:PUBLISH
X-WR-CALNAME:Central Wheatbelt Visitor Centre
X-ORIGINAL-URL:https://www.wheatbelttourism.com
X-WR-CALDESC:Events for Central Wheatbelt Visitor Centre
REFRESH-INTERVAL;VALUE=DURATION:PT1H
X-Robots-Tag:noindex
X-PUBLISHED-TTL:PT1H
BEGIN:VTIMEZONE
TZID:Australia/Perth
BEGIN:STANDARD
TZOFFSETFROM:+0800
TZOFFSETTO:+0800
TZNAME:AWST
DTSTART:20240101T000000
END:STANDARD
END:VTIMEZONE
BEGIN:VEVENT
DTSTART;TZID=Australia/Perth:20250905T080000
DTEND;TZID=Australia/Perth:20250907T170000
DTSTAMP:20260422T012805
CREATED:20250804T013747Z
LAST-MODIFIED:20250804T052935Z
UID:8723-1757059200-1757264400@www.wheatbelttourism.com
SUMMARY:Tammin Matriarchs of the Wheatbelt
DESCRIPTION:Join us for a very special community festival weekend event in the Shire of Tammin. \nWe will be celebrating 50 years of continuous trapdoor spider research started by the groundbreaking work of the late Professor Barbara York Main OAM.  Her lifelong dedication unearthed invaluable scientific knowledge and produced award-winning writings on place\, shining a light on these incredible beings and her own home in the wheatbelt. \nThere’s plenty to keep you busy over the weekend\, including exclusive documentary screenings\, theatre\, poetry\, citizen science\, workshops\, special guest speakers\, competitions\, and interactive family activities.  Don’t miss out – it’s worth leaving your burrow for this! \nThis event is dog-friendly\, so bring along the whole family.  All profits go directly to the Bookend Trust charity to fund future trapdoor spider research. \nCamping is available at the Donnan Park sports ground.  No powered sites available but access to camp kitchen\, BBQ and hot showers.  Booking available via the QR code or www.leanda.life \nThis event will be held on unceded Ballardong Noongar Boodja.  We acknowledge Elders of everywhere and pledge to be respectful while walking with Country in this place. \nTickets are $5 for the weekend\, or free for children under 12. Purchase tickets here at www.leanda.life
URL:https://www.wheatbelttourism.com/event/tammin-matriarchs-of-the-wheatbelt/
CATEGORIES:Community Event,Workshops
END:VEVENT
BEGIN:VEVENT
DTSTART;TZID=Australia/Perth:20250905T103000
DTEND;TZID=Australia/Perth:20250905T123000
DTSTAMP:20260422T012805
CREATED:20250804T045600Z
LAST-MODIFIED:20250825T021311Z
UID:8771-1757068200-1757075400@www.wheatbelttourism.com
SUMMARY:Merredin Morning Melodies
DESCRIPTION:Enjoy a morning out at Cummins Theatre featuring music by Robert Zielinski and Manuela Centanni! \nA concert of Irish dance music\, haunting slow airs and Robert’s original compositions inspired by the South West of Western Australia\, including music from the award-winning album Kiangardarup. \nRobert and Manuela are known for their unique tone\, unison playing\, harmonies and arrangements. Together\, they will bring you on a musical journey from Ireland to Australia. \nMorning tea will be served from 10.30am and the concert will start at 11.00am. \nMorning tea included in the ticket price! \nTickets $20 – $25 available online or in person at Central Wheatbelt Visitors Centre
URL:https://www.wheatbelttourism.com/event/merredin-morning-melodies-6/
LOCATION:Cummins Theatre\, 31 Bates Street\, Merredin\, WA\, 6415\, Australia
CATEGORIES:Theatre & Concerts
ATTACH;FMTTYPE=image/jpeg:https://www.wheatbelttourism.com/wp-content/uploads/2024/04/Cummins-Theatre-scaled.jpg
END:VEVENT
BEGIN:VEVENT
DTSTART;TZID=Australia/Perth:20250905T103000
DTEND;TZID=Australia/Perth:20250905T123000
DTSTAMP:20260422T012805
CREATED:20250827T025013Z
LAST-MODIFIED:20250827T025013Z
UID:9095-1757068200-1757075400@www.wheatbelttourism.com
SUMMARY:Dowerin Movie Morning
DESCRIPTION:
URL:https://www.wheatbelttourism.com/event/dowerin-movie-morning-8/
CATEGORIES:Community Event
END:VEVENT
END:VCALENDAR