BEGIN:VCALENDAR
VERSION:2.0
PRODID:-//Central Wheatbelt Visitor Centre - ECPv6.15.20//NONSGML v1.0//EN
CALSCALE:GREGORIAN
METHOD:PUBLISH
X-ORIGINAL-URL:https://www.wheatbelttourism.com
X-WR-CALDESC:Events for Central Wheatbelt Visitor Centre
REFRESH-INTERVAL;VALUE=DURATION:PT1H
X-Robots-Tag:noindex
X-PUBLISHED-TTL:PT1H
BEGIN:VTIMEZONE
TZID:Australia/Perth
BEGIN:STANDARD
TZOFFSETFROM:+0800
TZOFFSETTO:+0800
TZNAME:AWST
DTSTART:20240101T000000
END:STANDARD
END:VTIMEZONE
BEGIN:VEVENT
DTSTART;TZID=Australia/Perth:20250821T183000
DTEND;TZID=Australia/Perth:20250821T213000
DTSTAMP:20260422T000842
CREATED:20250718T035925Z
LAST-MODIFIED:20250718T035925Z
UID:8345-1755801000-1755811800@www.wheatbelttourism.com
SUMMARY:Tammin Comedy Gold
DESCRIPTION:An evening of hilarity with the best performers from the Melbourne Comedy Festival coming to Tammin on their National Tour. Bring your eskies and nibbles for a great night’s entertainment – we’ll supply the heaters and the entertainment!! \nThursday 21 August 2025 6:30 PM – 9:30 PM \nLocated at Tammin Town Hall\, Donnan Street\, TAMMIN WA \nBook Online
URL:https://www.wheatbelttourism.com/event/tammin-comedy-gold/
CATEGORIES:Community Event
END:VEVENT
END:VCALENDAR