BEGIN:VCALENDAR
VERSION:2.0
PRODID:-//Central Wheatbelt Visitor Centre - ECPv6.15.20//NONSGML v1.0//EN
CALSCALE:GREGORIAN
METHOD:PUBLISH
X-ORIGINAL-URL:https://www.wheatbelttourism.com
X-WR-CALDESC:Events for Central Wheatbelt Visitor Centre
REFRESH-INTERVAL;VALUE=DURATION:PT1H
X-Robots-Tag:noindex
X-PUBLISHED-TTL:PT1H
BEGIN:VTIMEZONE
TZID:Australia/Perth
BEGIN:STANDARD
TZOFFSETFROM:+0800
TZOFFSETTO:+0800
TZNAME:AWST
DTSTART:20240101T000000
END:STANDARD
END:VTIMEZONE
BEGIN:VEVENT
DTSTART;TZID=Australia/Perth:20250820T144500
DTEND;TZID=Australia/Perth:20250820T154500
DTSTAMP:20260422T000844
CREATED:20250718T024917Z
LAST-MODIFIED:20250718T024917Z
UID:8282-1755701100-1755704700@www.wheatbelttourism.com
SUMMARY:Narembeen Science Week
DESCRIPTION:Discover the Magic of Science! \nHands-on experiments that bubble\, fizz and change colours. \nAll children Kindy and up welcome. \nChildren Year 1 and below must be accompanied by an adult.
URL:https://www.wheatbelttourism.com/event/narembeen-science-week/
CATEGORIES:Childrens Event
END:VEVENT
BEGIN:VEVENT
DTSTART;TZID=Australia/Perth:20250820T180000
DTEND;TZID=Australia/Perth:20250820T210000
DTSTAMP:20260422T000844
CREATED:20250722T051550Z
LAST-MODIFIED:20250722T051620Z
UID:8486-1755712800-1755723600@www.wheatbelttourism.com
SUMMARY:Lake Grace Festival of Small Halls
DESCRIPTION:Festival of Small Halls is a series of tours that takes the best folk and contemporary acoustic artists performing at two of our country’s largest festivals\, and sends them on the road to tiny halls in communities all over Australia. \nThe artist line-up for Small Halls will always be at least one Australian artist and one International touring artist\, who play music of exceptional quality and heart. \nWinter Tour  – featuring Charlie A’Court (CAN) and Emily Barker (AUS) \nCharlie A’Court – Built with a mighty voice\, fierce guitar work and contemporary songwriting that is loved by fans across Canada and beyond\, A’Court has always been recognised for exploring his musical horizons. \nEmily Barker – Emily Barker is an award-winning Australian singer-songwriter. She had early success as the writer and performer of the theme to the hugely successful BBC/PBS masterpiece crime drama ‘Wallander’ starring Kenneth Branagh\, and has since gone on to forge an acclaimed catalogue of releases. \nTickets are priced at:\nFull Admission – $25\nConcession Admission (Pensioners\, Health Care Card Holders and Student Card Holders) – $15\nChild Admission (Aged 15 and Under – Must Be Accompanied By An Adult) – $10 \nPurchase tickets online or locally with cash at the Shire of Lake Grace Administration Office\, the Lake Grace and Newdegate Community Resource Centres and the Lake Grace Visitor Centre. \nLake Grace Shire Hall has accessible entry (ramp access at the front and rear) and has accessible bathrooms (wheelchair accessible). \nThis show is supported by Shire of Lake Grace.
URL:https://www.wheatbelttourism.com/event/lake-grace-festival-of-small-halls/
CATEGORIES:Theatre & Concerts
END:VEVENT
END:VCALENDAR