BEGIN:VCALENDAR
VERSION:2.0
PRODID:-//Central Wheatbelt Visitor Centre - ECPv6.15.20//NONSGML v1.0//EN
CALSCALE:GREGORIAN
METHOD:PUBLISH
X-ORIGINAL-URL:https://www.wheatbelttourism.com
X-WR-CALDESC:Events for Central Wheatbelt Visitor Centre
REFRESH-INTERVAL;VALUE=DURATION:PT1H
X-Robots-Tag:noindex
X-PUBLISHED-TTL:PT1H
BEGIN:VTIMEZONE
TZID:Australia/Perth
BEGIN:STANDARD
TZOFFSETFROM:+0800
TZOFFSETTO:+0800
TZNAME:AWST
DTSTART:20240101T000000
END:STANDARD
END:VTIMEZONE
BEGIN:VEVENT
DTSTART;TZID=Australia/Perth:20250817T183000
DTEND;TZID=Australia/Perth:20250817T200000
DTSTAMP:20260422T000836
CREATED:20250702T015542Z
LAST-MODIFIED:20250702T031320Z
UID:8165-1755455400-1755460800@www.wheatbelttourism.com
SUMMARY:Merredin Festival of Small Halls
DESCRIPTION:Festival of Small Halls is a series of tours that takes the best folk and contemporary acoustic artists performing at two of our country’s largest festivals\, and sends them on the road to tiny halls in communities all over Australia. \nThe artist line-up for Small Halls will always be at least one Australian artist and one International touring artist\, who play music of exceptional quality and heart. \nWinter Tour  – featuring Charlie A’Court (CAN) and Emily Barker (AUS) \nCharlie A’Court – Built with a mighty voice\, fierce guitar work and contemporary songwriting that is loved by fans across Canada and beyond\, A’Court has always been recognised for exploring his musical horizons. \nEmily Barker – Emily Barker is an award-winning Australian singer-songwriter. She had early success as the writer and performer of the theme to the hugely successful BBC/PBS masterpiece crime drama ‘Wallander’ starring Kenneth Branagh\, and has since gone on to forge an acclaimed catalogue of releases. \nBook Here
URL:https://www.wheatbelttourism.com/event/merredin-festival-of-small-halls/
LOCATION:Cummins Theatre\, 31 Bates Street\, Merredin\, WA\, 6415\, Australia
CATEGORIES:Theatre & Concerts
END:VEVENT
END:VCALENDAR