BEGIN:VCALENDAR
VERSION:2.0
PRODID:-//Central Wheatbelt Visitor Centre - ECPv6.15.20//NONSGML v1.0//EN
CALSCALE:GREGORIAN
METHOD:PUBLISH
X-ORIGINAL-URL:https://www.wheatbelttourism.com
X-WR-CALDESC:Events for Central Wheatbelt Visitor Centre
REFRESH-INTERVAL;VALUE=DURATION:PT1H
X-Robots-Tag:noindex
X-PUBLISHED-TTL:PT1H
BEGIN:VTIMEZONE
TZID:Australia/Perth
BEGIN:STANDARD
TZOFFSETFROM:+0800
TZOFFSETTO:+0800
TZNAME:AWST
DTSTART:20240101T000000
END:STANDARD
END:VTIMEZONE
BEGIN:VEVENT
DTSTART;TZID=Australia/Perth:20250816T173000
DTEND;TZID=Australia/Perth:20250816T210000
DTSTAMP:20260422T000834
CREATED:20250728T030406Z
LAST-MODIFIED:20250728T030406Z
UID:8603-1755365400-1755378000@www.wheatbelttourism.com
SUMMARY:Beverley Pav's Redback Rumble
DESCRIPTION:
URL:https://www.wheatbelttourism.com/event/beverley-pavs-redback-rumble/
CATEGORIES:Community Event,Sports
END:VEVENT
END:VCALENDAR