BEGIN:VCALENDAR
VERSION:2.0
PRODID:-//Central Wheatbelt Visitor Centre - ECPv6.15.20//NONSGML v1.0//EN
CALSCALE:GREGORIAN
METHOD:PUBLISH
X-WR-CALNAME:Central Wheatbelt Visitor Centre
X-ORIGINAL-URL:https://www.wheatbelttourism.com
X-WR-CALDESC:Events for Central Wheatbelt Visitor Centre
REFRESH-INTERVAL;VALUE=DURATION:PT1H
X-Robots-Tag:noindex
X-PUBLISHED-TTL:PT1H
BEGIN:VTIMEZONE
TZID:Australia/Perth
BEGIN:STANDARD
TZOFFSETFROM:+0800
TZOFFSETTO:+0800
TZNAME:AWST
DTSTART:20240101T000000
END:STANDARD
END:VTIMEZONE
BEGIN:VEVENT
DTSTART;TZID=Australia/Perth:20250811T093000
DTEND;TZID=Australia/Perth:20250811T150000
DTSTAMP:20260422T000702
CREATED:20250718T031811Z
LAST-MODIFIED:20250724T075043Z
UID:8315-1754904600-1754924400@www.wheatbelttourism.com
SUMMARY:Beacon Guided Wildflower Bus Tour
DESCRIPTION:Come along and see the Beacon regions spectacular Wildflower displays! \nYou will be taken on a guided tour to 3 or 4 different locations to take photos\, hunt for orchids and try some local produce. The tour guides are very informative and love to share stories about the different flowers you will see\, \nArrive at the Beacon CRC by 9.30am sharp and the bus will return to the CRC by 3pm. \nEnsure you bring your camera\, water bottle\, closed in walking shoes and comfortable clothes. \nMorning tea will be provided at the first destination. A campfire lunch will be served with a billy tea. \nCost is $60 per person. \nContact the Beacon CRC on 9686 1014 or email beacon@beaconcrc.net.au for further information. \nor Book Online
URL:https://www.wheatbelttourism.com/event/beacon-guided-wildflower-bus-tour/
CATEGORIES:Community Event
ATTACH;FMTTYPE=image/png:https://www.wheatbelttourism.com/wp-content/uploads/2025/07/Tamma-Shrubs.png
END:VEVENT
END:VCALENDAR