BEGIN:VCALENDAR
VERSION:2.0
PRODID:-//Central Wheatbelt Visitor Centre - ECPv6.15.20//NONSGML v1.0//EN
CALSCALE:GREGORIAN
METHOD:PUBLISH
X-WR-CALNAME:Central Wheatbelt Visitor Centre
X-ORIGINAL-URL:https://www.wheatbelttourism.com
X-WR-CALDESC:Events for Central Wheatbelt Visitor Centre
REFRESH-INTERVAL;VALUE=DURATION:PT1H
X-Robots-Tag:noindex
X-PUBLISHED-TTL:PT1H
BEGIN:VTIMEZONE
TZID:Australia/Perth
BEGIN:STANDARD
TZOFFSETFROM:+0800
TZOFFSETTO:+0800
TZNAME:AWST
DTSTART:20240101T000000
END:STANDARD
END:VTIMEZONE
BEGIN:VEVENT
DTSTART;TZID=Australia/Perth:20250803T080000
DTEND;TZID=Australia/Perth:20250803T120000
DTSTAMP:20260421T223357
CREATED:20241204T040802Z
LAST-MODIFIED:20250210T012039Z
UID:4516-1754208000-1754222400@www.wheatbelttourism.com
SUMMARY:Nungarin Markets
DESCRIPTION:The main Street of Nungarin comes alive on a Sunday morning. Main Street businesses open with plenty of entertainment\, eats\, drinks and bargins to be purchased. \nStalls include: fresh produce\, cakes\, honey\, clothes\, books\, chooks\, plants\, stationary\, hand crafted items\, collectables\, bric-a-brac and much more! \nTrading Hours 8:00am to 12:00pm \nTo book a stall contact 0448 244 063
URL:https://www.wheatbelttourism.com/event/nungarin-markets-18/
CATEGORIES:Market Days
END:VEVENT
END:VCALENDAR