BEGIN:VCALENDAR
VERSION:2.0
PRODID:-//Central Wheatbelt Visitor Centre - ECPv6.15.20//NONSGML v1.0//EN
CALSCALE:GREGORIAN
METHOD:PUBLISH
X-WR-CALNAME:Central Wheatbelt Visitor Centre
X-ORIGINAL-URL:https://www.wheatbelttourism.com
X-WR-CALDESC:Events for Central Wheatbelt Visitor Centre
REFRESH-INTERVAL;VALUE=DURATION:PT1H
X-Robots-Tag:noindex
X-PUBLISHED-TTL:PT1H
BEGIN:VTIMEZONE
TZID:Australia/Perth
BEGIN:STANDARD
TZOFFSETFROM:+0800
TZOFFSETTO:+0800
TZNAME:AWST
DTSTART:20240101T000000
END:STANDARD
END:VTIMEZONE
BEGIN:VEVENT
DTSTART;TZID=Australia/Perth:20250722T080000
DTEND;TZID=Australia/Perth:20250722T170000
DTSTAMP:20260421T223342
CREATED:20250722T040041Z
LAST-MODIFIED:20250722T040323Z
UID:8465-1753171200-1753203600@www.wheatbelttourism.com
SUMMARY:Merredin Dreams of a Lonely Planet
DESCRIPTION:Boy\, our hero\, yearns to escape. Out there\, on a planet far away\, he can finally be left alone. Follow him to the moon and go fishing for stars in this enchanting serenade for the young and young at heart. Hear stories from the blanket fort\, told through dance\, shadow puppetry and starry-eyed adventures. In a surreal kaleidoscope of whimsical vignettes\, dreams of finding a place to belong swell and burst like bubbles\, saturated with colour\, and filled with hope. \nBook ticket in person at the Central Wheatbelt Visitor Centre or \nBook Online
URL:https://www.wheatbelttourism.com/event/merredin-dreams-of-a-lonely-planet-2/
CATEGORIES:Childrens Event
END:VEVENT
BEGIN:VEVENT
DTSTART;TZID=Australia/Perth:20250722T100000
DTEND;TZID=Australia/Perth:20250722T100000
DTSTAMP:20260421T223342
CREATED:20250623T054155Z
LAST-MODIFIED:20250625T033033Z
UID:7952-1753178400-1753178400@www.wheatbelttourism.com
SUMMARY:Merredin Aladdin and his Magic Smartwatch
DESCRIPTION:Aladdin was sick and tired of his boring old lamp\, so he traded it for a brand-new Smartwatch! \nThe smartwatch was great\, but it came with a very strange Genie who was always getting things wrong. \nAladdin wished for a really big HOUSE and got a really big MOUSE…What the? \nHis Mum wasn’t happy either. \nAladdin hasn’t been doing his homework\, or his chores. He has become very lazy! \nAladdin plans to make the Genie do all the jobs he doesn’t want to do…including his homework! \nBe careful what you wish for Aladdin! \nTickets $10 available online
URL:https://www.wheatbelttourism.com/event/merredin-aladdin-and-his-magic-smartwatch/
LOCATION:Cummins Theatre\, 31 Bates Street\, Merredin\, WA\, 6415\, Australia
CATEGORIES:Childrens Event
ATTACH;FMTTYPE=image/jpeg:https://www.wheatbelttourism.com/wp-content/uploads/2024/04/Cummins-Theatre-scaled.jpg
END:VEVENT
END:VCALENDAR