BEGIN:VCALENDAR
VERSION:2.0
PRODID:-//Central Wheatbelt Visitor Centre - ECPv6.15.20//NONSGML v1.0//EN
CALSCALE:GREGORIAN
METHOD:PUBLISH
X-WR-CALNAME:Central Wheatbelt Visitor Centre
X-ORIGINAL-URL:https://www.wheatbelttourism.com
X-WR-CALDESC:Events for Central Wheatbelt Visitor Centre
REFRESH-INTERVAL;VALUE=DURATION:PT1H
X-Robots-Tag:noindex
X-PUBLISHED-TTL:PT1H
BEGIN:VTIMEZONE
TZID:Australia/Perth
BEGIN:STANDARD
TZOFFSETFROM:+0800
TZOFFSETTO:+0800
TZNAME:AWST
DTSTART:20240101T000000
END:STANDARD
END:VTIMEZONE
BEGIN:VEVENT
DTSTART;TZID=Australia/Perth:20250718T180000
DTEND;TZID=Australia/Perth:20250718T210000
DTSTAMP:20260421T223400
CREATED:20250618T011508Z
LAST-MODIFIED:20250618T013615Z
UID:7891-1752861600-1752872400@www.wheatbelttourism.com
SUMMARY:Nungarin Talk to A Mate
DESCRIPTION:Woolshed Hotel Nungarin are hosting Talk To A Mate event in the Beer Garden July 18\, 2025 at 6pm \nFree event for men of all ages. \nCome along and enjoy free pizza around the bonfire.
URL:https://www.wheatbelttourism.com/event/nungarin-talk-to-a-mate/
CATEGORIES:Community Event
END:VEVENT
END:VCALENDAR