BEGIN:VCALENDAR
VERSION:2.0
PRODID:-//Central Wheatbelt Visitor Centre - ECPv6.15.20//NONSGML v1.0//EN
CALSCALE:GREGORIAN
METHOD:PUBLISH
X-ORIGINAL-URL:https://www.wheatbelttourism.com
X-WR-CALDESC:Events for Central Wheatbelt Visitor Centre
REFRESH-INTERVAL;VALUE=DURATION:PT1H
X-Robots-Tag:noindex
X-PUBLISHED-TTL:PT1H
BEGIN:VTIMEZONE
TZID:Australia/Perth
BEGIN:STANDARD
TZOFFSETFROM:+0800
TZOFFSETTO:+0800
TZNAME:AWST
DTSTART:20240101T000000
END:STANDARD
END:VTIMEZONE
BEGIN:VEVENT
DTSTART;TZID=Australia/Perth:20250701T183000
DTEND;TZID=Australia/Perth:20250701T200000
DTSTAMP:20260421T210832
CREATED:20250620T033849Z
LAST-MODIFIED:20250620T033919Z
UID:7934-1751394600-1751400000@www.wheatbelttourism.com
SUMMARY:Kondinin Whalebone
DESCRIPTION:Featuring dazzling video and computer animations\, flying objects and a pinch of circus\, this richly visual theatrical experience takes kids and adults alike on a roller-coaster ride. \nWhalebone is filled with eccentric contraptions\, strange machinery\, and clunky inventions\, including the world’s first half-human juggling machine! \nNestled in the mysterious ‘Depository\,’ meet a lone worker with a mission\, In a world where AI and machines are going rogue and making more decisions for us\, he tries to safeguard human stories\, memories and emotions. \nLaugh out loud\, gasp in awe\, and let your imagination sour. Whalebone will ignite the curiosity of young aspiring inventors\, as well as everyone who loves stories and wonders. \nIt invites audiences to ponder the role of technology in our lives\, sparking conversations about what really defines us as humans. \nTickets available online
URL:https://www.wheatbelttourism.com/event/kondinin-whalebone/
CATEGORIES:Childrens Event
END:VEVENT
END:VCALENDAR