BEGIN:VCALENDAR
VERSION:2.0
PRODID:-//Central Wheatbelt Visitor Centre - ECPv6.15.20//NONSGML v1.0//EN
CALSCALE:GREGORIAN
METHOD:PUBLISH
X-ORIGINAL-URL:https://www.wheatbelttourism.com
X-WR-CALDESC:Events for Central Wheatbelt Visitor Centre
REFRESH-INTERVAL;VALUE=DURATION:PT1H
X-Robots-Tag:noindex
X-PUBLISHED-TTL:PT1H
BEGIN:VTIMEZONE
TZID:Australia/Perth
BEGIN:STANDARD
TZOFFSETFROM:+0800
TZOFFSETTO:+0800
TZNAME:AWST
DTSTART:20240101T000000
END:STANDARD
END:VTIMEZONE
BEGIN:VEVENT
DTSTART;TZID=Australia/Perth:20250423T100000
DTEND;TZID=Australia/Perth:20250423T113000
DTSTAMP:20260421T172639
CREATED:20250128T015014Z
LAST-MODIFIED:20250128T015116Z
UID:5512-1745402400-1745407800@www.wheatbelttourism.com
SUMMARY:Beverley Illustrator Workshop
DESCRIPTION:
URL:https://www.wheatbelttourism.com/event/beverley-illustrator-workshop/
CATEGORIES:Childrens Event
END:VEVENT
BEGIN:VEVENT
DTSTART;TZID=Australia/Perth:20250423T110000
DTEND;TZID=Australia/Perth:20250423T140000
DTSTAMP:20260421T172639
CREATED:20250306T024102Z
LAST-MODIFIED:20250306T024102Z
UID:5941-1745406000-1745416800@www.wheatbelttourism.com
SUMMARY:Merredin Active Youth
DESCRIPTION:
URL:https://www.wheatbelttourism.com/event/merredin-active-youth/
CATEGORIES:Childrens Event
END:VEVENT
END:VCALENDAR