BEGIN:VCALENDAR
VERSION:2.0
PRODID:-//Central Wheatbelt Visitor Centre - ECPv6.15.20//NONSGML v1.0//EN
CALSCALE:GREGORIAN
METHOD:PUBLISH
X-ORIGINAL-URL:https://www.wheatbelttourism.com
X-WR-CALDESC:Events for Central Wheatbelt Visitor Centre
REFRESH-INTERVAL;VALUE=DURATION:PT1H
X-Robots-Tag:noindex
X-PUBLISHED-TTL:PT1H
BEGIN:VTIMEZONE
TZID:Australia/Perth
BEGIN:STANDARD
TZOFFSETFROM:+0800
TZOFFSETTO:+0800
TZNAME:AWST
DTSTART:20240101T000000
END:STANDARD
END:VTIMEZONE
BEGIN:VEVENT
DTSTART;TZID=Australia/Perth:20250422T103000
DTEND;TZID=Australia/Perth:20250422T113000
DTSTAMP:20260421T172641
CREATED:20250324T061649Z
LAST-MODIFIED:20250324T061649Z
UID:6355-1745317800-1745321400@www.wheatbelttourism.com
SUMMARY:Merredin School Holiday Fun
DESCRIPTION:Paper Dragons \nTwo fun paper dragons to make. \nBookings essential\, Limited to 40 participants\, No walk-ins\, \nParental supervision required for all children under 10 years of age\, \nBook your place by calling Wendy at the Library on 9041 1222
URL:https://www.wheatbelttourism.com/event/merredin-school-holiday-fun-7/
CATEGORIES:Childrens Event
END:VEVENT
END:VCALENDAR