BEGIN:VCALENDAR
VERSION:2.0
PRODID:-//Central Wheatbelt Visitor Centre - ECPv6.15.20//NONSGML v1.0//EN
CALSCALE:GREGORIAN
METHOD:PUBLISH
X-WR-CALNAME:Central Wheatbelt Visitor Centre
X-ORIGINAL-URL:https://www.wheatbelttourism.com
X-WR-CALDESC:Events for Central Wheatbelt Visitor Centre
REFRESH-INTERVAL;VALUE=DURATION:PT1H
X-Robots-Tag:noindex
X-PUBLISHED-TTL:PT1H
BEGIN:VTIMEZONE
TZID:Australia/Perth
BEGIN:STANDARD
TZOFFSETFROM:+0800
TZOFFSETTO:+0800
TZNAME:AWST
DTSTART:20240101T000000
END:STANDARD
END:VTIMEZONE
BEGIN:VEVENT
DTSTART;TZID=Australia/Perth:20250415T103000
DTEND;TZID=Australia/Perth:20250415T113000
DTSTAMP:20260421T172540
CREATED:20250324T060944Z
LAST-MODIFIED:20250324T061153Z
UID:6331-1744713000-1744716600@www.wheatbelttourism.com
SUMMARY:Merredin School Holiday Fun
DESCRIPTION:Clay Fun\nMake multi coloured clay creatures or fun clay animals. \nBookings essential\, Limited to 40 participants\, No walk-ins\, \nParental supervision required for all children under 10 years of age\, \nBook your place by calling Wendy at the Library on 9041 1222
URL:https://www.wheatbelttourism.com/event/6331/
CATEGORIES:Childrens Event
END:VEVENT
END:VCALENDAR