BEGIN:VCALENDAR
VERSION:2.0
PRODID:-//Central Wheatbelt Visitor Centre - ECPv6.15.20//NONSGML v1.0//EN
CALSCALE:GREGORIAN
METHOD:PUBLISH
X-WR-CALNAME:Central Wheatbelt Visitor Centre
X-ORIGINAL-URL:https://www.wheatbelttourism.com
X-WR-CALDESC:Events for Central Wheatbelt Visitor Centre
REFRESH-INTERVAL;VALUE=DURATION:PT1H
X-Robots-Tag:noindex
X-PUBLISHED-TTL:PT1H
BEGIN:VTIMEZONE
TZID:Australia/Perth
BEGIN:STANDARD
TZOFFSETFROM:+0800
TZOFFSETTO:+0800
TZNAME:AWST
DTSTART:20240101T000000
END:STANDARD
END:VTIMEZONE
BEGIN:VEVENT
DTSTART;TZID=Australia/Perth:20250414T100000
DTEND;TZID=Australia/Perth:20250414T170000
DTSTAMP:20260421T172538
CREATED:20250314T034120Z
LAST-MODIFIED:20250314T034334Z
UID:6202-1744624800-1744650000@www.wheatbelttourism.com
SUMMARY:Bencubbin Adventure Out
DESCRIPTION:
URL:https://www.wheatbelttourism.com/event/bencubbin-adventure-out/
CATEGORIES:Family Events
END:VEVENT
END:VCALENDAR