BEGIN:VCALENDAR
VERSION:2.0
PRODID:-//Central Wheatbelt Visitor Centre - ECPv6.15.20//NONSGML v1.0//EN
CALSCALE:GREGORIAN
METHOD:PUBLISH
X-ORIGINAL-URL:https://www.wheatbelttourism.com
X-WR-CALDESC:Events for Central Wheatbelt Visitor Centre
REFRESH-INTERVAL;VALUE=DURATION:PT1H
X-Robots-Tag:noindex
X-PUBLISHED-TTL:PT1H
BEGIN:VTIMEZONE
TZID:Australia/Perth
BEGIN:STANDARD
TZOFFSETFROM:+0800
TZOFFSETTO:+0800
TZNAME:AWST
DTSTART:20240101T000000
END:STANDARD
END:VTIMEZONE
BEGIN:VEVENT
DTSTART;TZID=Australia/Perth:20250412T180000
DTEND;TZID=Australia/Perth:20250412T210000
DTSTAMP:20260421T183847
CREATED:20250306T024921Z
LAST-MODIFIED:20250313T023046Z
UID:5974-1744480800-1744491600@www.wheatbelttourism.com
SUMMARY:Merredin- Movie Under The Stars
DESCRIPTION:
URL:https://www.wheatbelttourism.com/event/merredin-movie-under-the-stars/
CATEGORIES:Family Events
END:VEVENT
END:VCALENDAR