BEGIN:VCALENDAR
VERSION:2.0
PRODID:-//Central Wheatbelt Visitor Centre - ECPv6.15.20//NONSGML v1.0//EN
CALSCALE:GREGORIAN
METHOD:PUBLISH
X-WR-CALNAME:Central Wheatbelt Visitor Centre
X-ORIGINAL-URL:https://www.wheatbelttourism.com
X-WR-CALDESC:Events for Central Wheatbelt Visitor Centre
REFRESH-INTERVAL;VALUE=DURATION:PT1H
X-Robots-Tag:noindex
X-PUBLISHED-TTL:PT1H
BEGIN:VTIMEZONE
TZID:Australia/Perth
BEGIN:STANDARD
TZOFFSETFROM:+0800
TZOFFSETTO:+0800
TZNAME:AWST
DTSTART:20240101T000000
END:STANDARD
END:VTIMEZONE
BEGIN:VEVENT
DTSTART;TZID=Australia/Perth:20250411T170000
DTEND;TZID=Australia/Perth:20250411T190000
DTSTAMP:20260421T172539
CREATED:20250213T011341Z
LAST-MODIFIED:20250213T011341Z
UID:5668-1744390800-1744398000@www.wheatbelttourism.com
SUMMARY:Lake Grace Blue Light Disco
DESCRIPTION:
URL:https://www.wheatbelttourism.com/event/lake-grace-blue-light-disco/
CATEGORIES:Childrens Event
END:VEVENT
BEGIN:VEVENT
DTSTART;TZID=Australia/Perth:20250411T183000
DTEND;TZID=Australia/Perth:20250411T193000
DTSTAMP:20260421T172539
CREATED:20250314T033009Z
LAST-MODIFIED:20250314T033009Z
UID:6181-1744396200-1744399800@www.wheatbelttourism.com
SUMMARY:Dowerin Outdoor Cinema
DESCRIPTION:
URL:https://www.wheatbelttourism.com/event/dowerin-outdoor-cinema/
CATEGORIES:Family Events
END:VEVENT
END:VCALENDAR