BEGIN:VCALENDAR
VERSION:2.0
PRODID:-//Central Wheatbelt Visitor Centre - ECPv6.15.20//NONSGML v1.0//EN
CALSCALE:GREGORIAN
METHOD:PUBLISH
X-WR-CALNAME:Central Wheatbelt Visitor Centre
X-ORIGINAL-URL:https://www.wheatbelttourism.com
X-WR-CALDESC:Events for Central Wheatbelt Visitor Centre
REFRESH-INTERVAL;VALUE=DURATION:PT1H
X-Robots-Tag:noindex
X-PUBLISHED-TTL:PT1H
BEGIN:VTIMEZONE
TZID:Australia/Perth
BEGIN:STANDARD
TZOFFSETFROM:+0800
TZOFFSETTO:+0800
TZNAME:AWST
DTSTART:20240101T000000
END:STANDARD
END:VTIMEZONE
BEGIN:VEVENT
DTSTART;TZID=Australia/Perth:20250408T130000
DTEND;TZID=Australia/Perth:20250408T150000
DTSTAMP:20260421T174843
CREATED:20250212T010140Z
LAST-MODIFIED:20250212T010140Z
UID:5629-1744117200-1744124400@www.wheatbelttourism.com
SUMMARY:Koorda - Robert Graham Live
DESCRIPTION:Tuesday 8th April at Koorda Memorial Hall 1-3pm.\nDoors open 12pm\, Free entry\, Limited seats\, Bookings are essential.\nPhone 9684 1081. \nCanadian/Australian musician Robert Graham is an award-winning pianist\,\nsinger/songwriter\, and vocalist\, as well as a Music Director\, collaborative pianist\n(vocal\, instrumental\, and dance)\, choir director\, vocal/repertoire coach\, educator\, and writer.
URL:https://www.wheatbelttourism.com/event/koorda-robert-graham-live/
CATEGORIES:Theatre & Concerts
END:VEVENT
END:VCALENDAR